 BEGIN:VCALENDAR
VERSION:2.0
PRODID:-//Athle06 - ECPv6.3.7//NONSGML v1.0//EN
CALSCALE:GREGORIAN
METHOD:PUBLISH
X-WR-CALNAME:Athle06
X-ORIGINAL-URL:https://athle06.fr
X-WR-CALDESC:évènements pour Athle06
REFRESH-INTERVAL;VALUE=DURATION:PT1H
X-Robots-Tag:noindex
X-PUBLISHED-TTL:PT1H
BEGIN:VTIMEZONE
TZID:Europe/Paris
BEGIN:DAYLIGHT
TZOFFSETFROM:+0100
TZOFFSETTO:+0200
TZNAME:CEST
DTSTART:20260329T010000
END:DAYLIGHT
BEGIN:STANDARD
TZOFFSETFROM:+0200
TZOFFSETTO:+0100
TZNAME:CET
DTSTART:20261025T010000
END:STANDARD
END:VTIMEZONE
BEGIN:VEVENT
DTSTART;VALUE=DATE:20260425
DTEND;VALUE=DATE:20260426
DTSTAMP:20260425T023823
CREATED:20260225T180726Z
LAST-MODIFIED:20260225T180726Z
UID:25178-1777075200-1777161599@athle06.fr
SUMMARY:Souvenir PAUCHARD (CANNES)
DESCRIPTION:
URL:https://athle06.fr/event/souvenir-pauchard-cannes-2026/
LOCATION:Cannes La Bocca\, Stade Maurice Chevalier\, Cannes\, 06400\, France
CATEGORIES:CHALLENGE ATHLE06,MEETING,PISTE
ORGANIZER;CN="AC CANNES":MAILTO:ac.cannes@wanadoo.fr
END:VEVENT
END:VCALENDAR