 BEGIN:VCALENDAR
VERSION:2.0
PRODID:-//Athle06 - ECPv6.3.7//NONSGML v1.0//EN
CALSCALE:GREGORIAN
METHOD:PUBLISH
X-ORIGINAL-URL:https://athle06.fr
X-WR-CALDESC:évènements pour Athle06
REFRESH-INTERVAL;VALUE=DURATION:PT1H
X-Robots-Tag:noindex
X-PUBLISHED-TTL:PT1H
BEGIN:VTIMEZONE
TZID:Europe/Paris
BEGIN:DAYLIGHT
TZOFFSETFROM:+0100
TZOFFSETTO:+0200
TZNAME:CEST
DTSTART:20210328T010000
END:DAYLIGHT
BEGIN:STANDARD
TZOFFSETFROM:+0200
TZOFFSETTO:+0100
TZNAME:CET
DTSTART:20211031T010000
END:STANDARD
BEGIN:DAYLIGHT
TZOFFSETFROM:+0100
TZOFFSETTO:+0200
TZNAME:CEST
DTSTART:20220327T010000
END:DAYLIGHT
BEGIN:STANDARD
TZOFFSETFROM:+0200
TZOFFSETTO:+0100
TZNAME:CET
DTSTART:20221030T010000
END:STANDARD
BEGIN:DAYLIGHT
TZOFFSETFROM:+0100
TZOFFSETTO:+0200
TZNAME:CEST
DTSTART:20230326T010000
END:DAYLIGHT
BEGIN:STANDARD
TZOFFSETFROM:+0200
TZOFFSETTO:+0100
TZNAME:CET
DTSTART:20231029T010000
END:STANDARD
BEGIN:DAYLIGHT
TZOFFSETFROM:+0100
TZOFFSETTO:+0200
TZNAME:CEST
DTSTART:20240331T010000
END:DAYLIGHT
BEGIN:STANDARD
TZOFFSETFROM:+0200
TZOFFSETTO:+0100
TZNAME:CET
DTSTART:20241027T010000
END:STANDARD
BEGIN:DAYLIGHT
TZOFFSETFROM:+0100
TZOFFSETTO:+0200
TZNAME:CEST
DTSTART:20250330T010000
END:DAYLIGHT
BEGIN:STANDARD
TZOFFSETFROM:+0200
TZOFFSETTO:+0100
TZNAME:CET
DTSTART:20251026T010000
END:STANDARD
END:VTIMEZONE
BEGIN:VEVENT
DTSTART;VALUE=DATE:20250201
DTEND;VALUE=DATE:20250202
DTSTAMP:20260420T203009
CREATED:20241118T170749Z
LAST-MODIFIED:20250120T100933Z
UID:22800-1738368000-1738454399@athle06.fr
SUMMARY:Animation EA/PO zone est (NICE LA LAUVETTE)
DESCRIPTION:
URL:https://athle06.fr/event/animation-ea-po-zone-est-nice-la-lauvette-3/
LOCATION:Nice\, Stade de La Lauvette\, Complexe sportif de La Lauvette\, Nice\, 06340\, France
CATEGORIES:ANIMATION ÉVEIL ATHLÉ,ANIMATION ÉVEIL ATHLÉ POUSSINS,ANIMATION POUSSINS,CHALLENGE POUSSINS,PISTE
ORGANIZER;CN="CLUB ATHLE PEILLON":MAILTO:courirapeillon@yahoo.fr
END:VEVENT
BEGIN:VEVENT
DTSTART;VALUE=DATE:20240615
DTEND;VALUE=DATE:20240616
DTSTAMP:20260420T203009
CREATED:20240124T173933Z
LAST-MODIFIED:20240603T120351Z
UID:21398-1718409600-1718495999@athle06.fr
SUMMARY:Finale Départementale PO (NICE LA LAUVETTE)
DESCRIPTION:
URL:https://athle06.fr/event/finale-departementale-po-nice-la-lauvette/
LOCATION:Nice\, Stade de La Lauvette\, Complexe sportif de La Lauvette\, Nice\, 06340\, France
CATEGORIES:ANIMATION ÉVEIL ATHLÉ POUSSINS,ANIMATION POUSSINS,CHALLENGE POUSSINS,FINALE DÉPARTEMENTALE POUSSINS,PISTE
ATTACH;FMTTYPE=image/jpeg:https://athle06.fr/wp-content/uploads/2020/03/A06-Finale-PO.jpg
ORGANIZER;CN="CLUB ATHLE PEILLON":MAILTO:courirapeillon@yahoo.fr
END:VEVENT
BEGIN:VEVENT
DTSTART;VALUE=DATE:20230128
DTEND;VALUE=DATE:20230129
DTSTAMP:20260420T203009
CREATED:20221203T174706Z
LAST-MODIFIED:20230120T152554Z
UID:17997-1674864000-1674950399@athle06.fr
SUMMARY:Animation EA/PO zone est (NICE LA LAUVETTE)
DESCRIPTION:Épreuves : Triathlon\, Kid’Athlé \n\n\n\n\nPour les clubs de la zone est. \nEngagements avant le jeudi 27 janvier 2023 12h sur athle06.fr.
URL:https://athle06.fr/event/animation-ea-po-zone-est-nice-la-lauvette-2/
LOCATION:Nice\, Stade de La Lauvette\, Complexe sportif de La Lauvette\, Nice\, 06340\, France
CATEGORIES:ANIMATION ÉVEIL ATHLÉ,ANIMATION ÉVEIL ATHLÉ POUSSINS,ANIMATION POUSSINS,CHALLENGE POUSSINS,PISTE
ATTACH;FMTTYPE=image/jpeg:https://athle06.fr/wp-content/uploads/2019/10/logo-peillon-300px.jpg
ORGANIZER;CN="CLUB ATHLE PEILLON":MAILTO:courirapeillon@yahoo.fr
END:VEVENT
BEGIN:VEVENT
DTSTART;VALUE=DATE:20220402
DTEND;VALUE=DATE:20220403
DTSTAMP:20260420T203009
CREATED:20220318T124550Z
LAST-MODIFIED:20220318T125949Z
UID:16229-1648857600-1648943999@athle06.fr
SUMMARY:Animation EA/PO zone est (NICE LA LAUVETTE)
DESCRIPTION:
URL:https://athle06.fr/event/animation-ea-po-zone-est-nice-la-lauvette/
LOCATION:Nice\, Stade de La Lauvette\, Complexe sportif de La Lauvette\, Nice\, 06340\, France
CATEGORIES:ANIMATION ÉVEIL ATHLÉ,ANIMATION ÉVEIL ATHLÉ POUSSINS,ANIMATION POUSSINS,CHALLENGE POUSSINS,PISTE
ATTACH;FMTTYPE=image/jpeg:https://athle06.fr/wp-content/uploads/2019/10/logo-peillon-300px.jpg
ORGANIZER;CN="CLUB ATHLE PEILLON":MAILTO:courirapeillon@yahoo.fr
END:VEVENT
BEGIN:VEVENT
DTSTART;VALUE=DATE:20210529
DTEND;VALUE=DATE:20210530
DTSTAMP:20260420T203009
CREATED:20210510T090059Z
LAST-MODIFIED:20210524T075718Z
UID:12984-1622246400-1622332799@athle06.fr
SUMMARY:Animation Éveil Athlé et Poussins (zone est) (NICE LA LAUVETTE)
DESCRIPTION:Animation réservée aux clubs de la zone est : ASD Mentonnais\, AS Monaco\, ASPTT Nice Côte d’Azur\, Cavigal Nice Sports\, Courir à Peillon\, Nice Côte d’Azur Athlétisme\, Nice Métropole Athlétisme\, Stade Laurentin Athlétisme et US Cagnes. \nEngagements avant le mercredi 26 mai 2021 sur athle06.fr.
URL:https://athle06.fr/event/animation-eveil-athle-et-poussins-zone-est-nice-la-lauvette/
LOCATION:Nice\, Stade de La Lauvette\, Complexe sportif de La Lauvette\, Nice\, 06340\, France
CATEGORIES:ANIMATION ÉVEIL ATHLÉ,ANIMATION ÉVEIL ATHLÉ POUSSINS,ANIMATION POUSSINS,CHALLENGE POUSSINS
ATTACH;FMTTYPE=image/jpeg:https://athle06.fr/wp-content/uploads/2020/03/A06-Animation-EAPO.jpg
ORGANIZER;CN="CLUB ATHLE PEILLON":MAILTO:courirapeillon@yahoo.fr
END:VEVENT
END:VCALENDAR